BEGIN:VCALENDAR
VERSION:2.0
PRODID:-//Zavod  Notranji izvir - ECPv6.15.20//NONSGML v1.0//EN
CALSCALE:GREGORIAN
METHOD:PUBLISH
X-WR-CALNAME:Zavod  Notranji izvir
X-ORIGINAL-URL:https://www.notranji-izvir.si
X-WR-CALDESC:Dogodki za Zavod  Notranji izvir
REFRESH-INTERVAL;VALUE=DURATION:PT1H
X-Robots-Tag:noindex
X-PUBLISHED-TTL:PT1H
BEGIN:VTIMEZONE
TZID:Europe/Ljubljana
BEGIN:DAYLIGHT
TZOFFSETFROM:+0100
TZOFFSETTO:+0200
TZNAME:CEST
DTSTART:20240331T010000
END:DAYLIGHT
BEGIN:STANDARD
TZOFFSETFROM:+0200
TZOFFSETTO:+0100
TZNAME:CET
DTSTART:20241027T010000
END:STANDARD
BEGIN:DAYLIGHT
TZOFFSETFROM:+0100
TZOFFSETTO:+0200
TZNAME:CEST
DTSTART:20250330T010000
END:DAYLIGHT
BEGIN:STANDARD
TZOFFSETFROM:+0200
TZOFFSETTO:+0100
TZNAME:CET
DTSTART:20251026T010000
END:STANDARD
BEGIN:DAYLIGHT
TZOFFSETFROM:+0100
TZOFFSETTO:+0200
TZNAME:CEST
DTSTART:20260329T010000
END:DAYLIGHT
BEGIN:STANDARD
TZOFFSETFROM:+0200
TZOFFSETTO:+0100
TZNAME:CET
DTSTART:20261025T010000
END:STANDARD
END:VTIMEZONE
BEGIN:VEVENT
DTSTART;TZID=Europe/Ljubljana:20250404T200000
DTEND;TZID=Europe/Ljubljana:20250404T200000
DTSTAMP:20260423T043454
CREATED:20250331T111113Z
LAST-MODIFIED:20250331T111113Z
UID:27945-1743796800-1743796800@www.notranji-izvir.si
SUMMARY:Spletna meditacija - Ozaveščeno delo s čustvi
DESCRIPTION:Skupinska meditacija – podpora za raziskovanje vaše notranje pokrajine\nMeditacijo vodi: Maja Papež Iskra \n\n\n\n\n\n\n\n\n\n\n\n\nV petek\, 4. aprila 2025\,  vas ob 20. uri  vabim na spletno meditacijo. \nNa tej meditaciji se bomo poglobili v čustva\, raziskali njihova sporočila ter se naučili\, kako z njimi ravnati na bolj zavesten način. Spoznali bomo vaje za delo s strahovi\, jezo\, krivdo\, žalostjo. Spregovorili bomo tudi o sramu\, zavisti\, ljubosumju ter pohlepu. \nNajprej vam bom na kratko predstavila simbole\, nato pa se bomo vanje potopili za osebno izkušnjo\, ki bo zaradi skupine še močnejša. \nMeditacija bo čudovita priložnost\, da spoznate simbole in vaje\, ki jih omenjam na predavanjih\, v kratkih objavah in člankih. Hkrati pa je lahko podpora vsem\, ki simbole že poznate in se že potapljate z njimi v svoje nezavedno. Simboli in vizualizacije vam bodo podarili globlje notranje zavedanje za različne vidike vaše psihe. \nČe želite\, si lahko o vajah preberete več v spodnji PDF knjigi ali na moji spletni strani pod zavihkom: Zanimivo branje \nProsim za potrditev udeležbe in prostovoljne prispevke za srečanje. Že vnaprej se vam iskreno zahvaljujemo za vašo podporo! \nTopel objem vsem.\nMaja \n\n\n\n\n\n\n\n\n\n\n\n\nZOOM meditatvno srečanjePovzetki vaj so na voljo v knjigi! >>> \nOb dogovorjenem času kliknite spodnjo povezavo ali zgornji gumb\, ki vas bo vključil v spletno meditacijo. Meditacija bo potekala prek ZOOM videokonference. Ob morebitnih zapletih mi pošljite svoj e-naslov na info@notranji-izvir.si\, da vam lahko pošljem povabilo. Prosimo vas\, da se v dogodek vključite nekaj minut pred začetkom\, saj med vodenjem meditacije ne bom mogla reševati težav. \nhttps://us06web.zoom.us/j/89553863876?pwd=SvN7fvKTHbeDggFVs0xdWGsCYqDSzy.1\nPodatki za prostovoljne prispevke in donacije<<< Dodajam še SumUp link za prostovoljne prispevke za plačila s kartico.
URL:https://www.notranji-izvir.si/dogodek/spletna-meditacija-ozavesceno-delo-s-custvi/
LOCATION:Spletna učilnica\, ZOOM
CATEGORIES:spletna meditacija
ATTACH;FMTTYPE=image/jpeg:https://www.notranji-izvir.si/wp-content/uploads/2025/02/Meditacija-z-Majo.jpg
ORGANIZER;CN="Zavod Notranji izvir":MAILTO:info@notranji-izvir.si
END:VEVENT
END:VCALENDAR