BEGIN:VCALENDAR
VERSION:2.0
PRODID:-//Zavod  Notranji izvir - ECPv6.15.20//NONSGML v1.0//EN
CALSCALE:GREGORIAN
METHOD:PUBLISH
X-WR-CALNAME:Zavod  Notranji izvir
X-ORIGINAL-URL:https://www.notranji-izvir.si
X-WR-CALDESC:Dogodki za Zavod  Notranji izvir
REFRESH-INTERVAL;VALUE=DURATION:PT1H
X-Robots-Tag:noindex
X-PUBLISHED-TTL:PT1H
BEGIN:VTIMEZONE
TZID:Europe/Ljubljana
BEGIN:DAYLIGHT
TZOFFSETFROM:+0100
TZOFFSETTO:+0200
TZNAME:CEST
DTSTART:20240331T010000
END:DAYLIGHT
BEGIN:STANDARD
TZOFFSETFROM:+0200
TZOFFSETTO:+0100
TZNAME:CET
DTSTART:20241027T010000
END:STANDARD
BEGIN:DAYLIGHT
TZOFFSETFROM:+0100
TZOFFSETTO:+0200
TZNAME:CEST
DTSTART:20250330T010000
END:DAYLIGHT
BEGIN:STANDARD
TZOFFSETFROM:+0200
TZOFFSETTO:+0100
TZNAME:CET
DTSTART:20251026T010000
END:STANDARD
BEGIN:DAYLIGHT
TZOFFSETFROM:+0100
TZOFFSETTO:+0200
TZNAME:CEST
DTSTART:20260329T010000
END:DAYLIGHT
BEGIN:STANDARD
TZOFFSETFROM:+0200
TZOFFSETTO:+0100
TZNAME:CET
DTSTART:20261025T010000
END:STANDARD
END:VTIMEZONE
BEGIN:VEVENT
DTSTART;TZID=Europe/Ljubljana:20250221T180000
DTEND;TZID=Europe/Ljubljana:20250221T193000
DTSTAMP:20260423T090717
CREATED:20250201T133202Z
LAST-MODIFIED:20250220T091639Z
UID:27924-1740160800-1740166200@www.notranji-izvir.si
SUMMARY:Predavanje: Nemirni um in sprejemanje odločitev
DESCRIPTION:Sodobni ljudje smo izčrpani od podivjanih misli. Naš um je preobremenjen z neštetimi informacijami\, ki vzbujajo številne reakcije\, impulze in želje. Zato se težko umirimo. \nČe ga želimo obvladati\, je koristno razumeti\, kako deluje\, v kakšne zanke se lahko ujame in kako ga lahko umirimo ter ukrotimo. Prav o tem bo tekla beseda na predavanju. Spoznali bomo tudi vaje za lažje sprejemanje odločitev – kako v poplavi informacij in nasvetov poslušati svoje srce\, slediti šepetu notranjega vodstva\, ki nas subtilno usmerja\, navdihuje in varno vodi skozi življenje. \nPredavala bo Maja Papež Iskra\, svetovalka za osebno rast v Zavodu Notranji izvir. Že več kot 20 let vodi skupine za samopomoč\, predava in svetuje posameznikom. S svojim poglobljenim znanjem\, osebnimi izkušnjami in razumevanjem subtilnega sveta podpira ljudi na poti osebne preobrazbe in rasti. \nDogodek organizira: KD Dvor \n \nŠe drugi dogodki ZNI
URL:https://www.notranji-izvir.si/dogodek/predavanje-nemirni-um-in-sprejemanje-odlocitev/
LOCATION:Večnamenska dvorana na Dvoru\, nad Foto Maver\, vhod s strani\, Dvor 12b\, Dvor\, 8631\, Slovenija
CATEGORIES:predavanja
ATTACH;FMTTYPE=image/jpeg:https://www.notranji-izvir.si/wp-content/uploads/2021/10/f961b137-e854-4326-a952-60a70c951485.jpg
END:VEVENT
END:VCALENDAR