BEGIN:VCALENDAR
VERSION:2.0
PRODID:-//Zavod  Notranji izvir - ECPv6.15.20//NONSGML v1.0//EN
CALSCALE:GREGORIAN
METHOD:PUBLISH
X-WR-CALNAME:Zavod  Notranji izvir
X-ORIGINAL-URL:https://www.notranji-izvir.si
X-WR-CALDESC:Dogodki za Zavod  Notranji izvir
REFRESH-INTERVAL;VALUE=DURATION:PT1H
X-Robots-Tag:noindex
X-PUBLISHED-TTL:PT1H
BEGIN:VTIMEZONE
TZID:Europe/Ljubljana
BEGIN:DAYLIGHT
TZOFFSETFROM:+0100
TZOFFSETTO:+0200
TZNAME:CEST
DTSTART:20240331T010000
END:DAYLIGHT
BEGIN:STANDARD
TZOFFSETFROM:+0200
TZOFFSETTO:+0100
TZNAME:CET
DTSTART:20241027T010000
END:STANDARD
BEGIN:DAYLIGHT
TZOFFSETFROM:+0100
TZOFFSETTO:+0200
TZNAME:CEST
DTSTART:20250330T010000
END:DAYLIGHT
BEGIN:STANDARD
TZOFFSETFROM:+0200
TZOFFSETTO:+0100
TZNAME:CET
DTSTART:20251026T010000
END:STANDARD
BEGIN:DAYLIGHT
TZOFFSETFROM:+0100
TZOFFSETTO:+0200
TZNAME:CEST
DTSTART:20260329T010000
END:DAYLIGHT
BEGIN:STANDARD
TZOFFSETFROM:+0200
TZOFFSETTO:+0100
TZNAME:CET
DTSTART:20261025T010000
END:STANDARD
END:VTIMEZONE
BEGIN:VEVENT
DTSTART;TZID=Europe/Ljubljana:20250606T200000
DTEND;TZID=Europe/Ljubljana:20250606T213000
DTSTAMP:20260423T090716
CREATED:20250602T202049Z
LAST-MODIFIED:20250602T202049Z
UID:27957-1749240000-1749245400@www.notranji-izvir.si
SUMMARY:Spletna meditacija - Razumevanje sanj
DESCRIPTION:Skupinska meditacija – podpora za raziskovanje vaše notranje pokrajine\nMeditacijo vodi: Maja Papež Iskra \n\n\n\n\n\n\n\n\n\n\n\n\nV petek\, 6. junija 2025\, ob 20. uri se mi lahko pridružite na spletni meditaciji. \nNa tem srečanju se bomo poglabljali v sanje ter njihovo bogato in čarobno simboliko. Na sanje je na splošno dobro gledati kot na gledališko predstavo\, ki nam jo uprizarja naše nezavedno\, da nas seznanja o dogajanju v naši psihi.\nNajprej se bomo poglobili v pomen splošnih simbolov: ljudi\, živali\, vzdušij\, okoliščin in predmetov\, nato pa bomo s pomočjo Višjega zavedanja iz vseh teh koščkov izluščili sporočilo za nas in našo osebno rast. Dragocena bo tudi izkušnja\, kako lahko aktivno vstopimo v sanje s pomočjo metode budnega sanjanja in v nezavedno vtisnemo nove\, bolj konstruktivne podobe.\nŽe pred srečanjem lahko razmislite\, na katere sanje se boste osredotočili. Lahko jih imate tudi več na seznamu. \nNajprej vam bom na kratko predstavila temo\, nato pa se bomo s pomočjo vaj in simbolov potopili v osebno izkušnjo\, ki bo zaradi skupine še močnejša. \nMeditacija bo čudovita priložnost\, da spoznate simbole in vaje\, ki jih omenjam na predavanjih\, v kratkih objavah in člankih. Hkrati pa je lahko podpora vsem\, ki simbole že poznate in se že potapljate z njimi v svoje nezavedno. Simboli in vizualizacije vam bodo podarili globlje notranje zavedanje različnih vidikov vaše psihe. \nČe želite\, si lahko o vajah preberete več v PDF knjigi ali na moji spletni strani pod zavihkom: Zanimivo branje \nProsim za potrditev udeležbe in prostovoljne prispevke za srečanje. Že vnaprej se vam iskreno zahvaljujemo za vašo podporo! \nTopel objem vsem.\nMaja \n\n\n\n\n\n\n\n\n\n\n\n\nZOOM meditatvno srečanjePovzetki vaj so na voljo v knjigi! >>> \nOb dogovorjenem času kliknite spodnjo povezavo ali zgornji gumb\, ki vas bo vključil v spletno meditacijo. Meditacija bo potekala prek ZOOM videokonference. Ob morebitnih zapletih mi pošljite svoj e-naslov na info@notranji-izvir.si\, da vam lahko pošljem povabilo. Prosimo vas\, da se v dogodek vključite nekaj minut pred začetkom\, saj med vodenjem meditacije ne bom mogla reševati težav. \nhttps://us06web.zoom.us/j/89553863876?pwd=SvN7fvKTHbeDggFVs0xdWGsCYqDSzy.1\nPodatki za prostovoljne prispevke in donacije<<< Dodajam še SumUp link za prostovoljne prispevke za plačila s kartico.
URL:https://www.notranji-izvir.si/dogodek/spletna-meditacija-razumevanje-sanj/
LOCATION:Spletna učilnica\, ZOOM
CATEGORIES:spletna meditacija
ATTACH;FMTTYPE=image/jpeg:https://www.notranji-izvir.si/wp-content/uploads/2025/02/Meditacija-z-Majo.jpg
ORGANIZER;CN="Zavod Notranji izvir":MAILTO:info@notranji-izvir.si
END:VEVENT
BEGIN:VEVENT
DTSTART;TZID=Europe/Ljubljana:20250321T190000
DTEND;TZID=Europe/Ljubljana:20250321T203000
DTSTAMP:20260423T090716
CREATED:20250312T141350Z
LAST-MODIFIED:20250312T195102Z
UID:27942-1742583600-1742589000@www.notranji-izvir.si
SUMMARY:Predavanje: Razumevaje sanj
DESCRIPTION:Na predavanju bomo osvetlili vlogo sanj\, kako razkrivajo naše strahove\, želje in notranje konflikte ter nas vzpodbujajo in navdihujejo. Izvedeli bomo\, kako jih pozitivno razrešujemo\, analiziramo in interpretiramo\, pri čemer se bomo poglobili v splošen in oseben pomen posameznih simbolov\, s katerimi se najpogosteje srečujemo v sanjah. \nPredavala bo Maja Papež Iskra\, svetovalka za osebno rast\, ki deluje v Zavodu Notranji izvir. Že več kot 20 let vodi skupine za samopomoč\, predava in svetuje posameznikom. S svojim poglobljenim znanjem\, osebnimi izkušnjami in razumevanjem subtilnega sveta podpira ljudi na poti osebne preobrazbe in rasti. \n \nŠe drugi dogodki ZNI
URL:https://www.notranji-izvir.si/dogodek/predavanje-razumevaje-sanj/
LOCATION:GD Šmihel pri Žužemberku\, Šmihel pri Žužemberku 38\, Žužemberk\, 8360\, Slovenija
CATEGORIES:predavanja
ATTACH;FMTTYPE=image/jpeg:https://www.notranji-izvir.si/wp-content/uploads/2021/10/f961b137-e854-4326-a952-60a70c951485.jpg
ORGANIZER;CN="KD %C5%A0mihel pri %C5%BDu%C5%BEemberku":MAILTO:kdsmihelprizuzemberku@gmail.com
END:VEVENT
END:VCALENDAR