BEGIN:VCALENDAR
VERSION:2.0
PRODID:-//Zavod  Notranji izvir - ECPv6.15.20//NONSGML v1.0//EN
CALSCALE:GREGORIAN
METHOD:PUBLISH
X-ORIGINAL-URL:https://www.notranji-izvir.si
X-WR-CALDESC:Dogodki za Zavod  Notranji izvir
REFRESH-INTERVAL;VALUE=DURATION:PT1H
X-Robots-Tag:noindex
X-PUBLISHED-TTL:PT1H
BEGIN:VTIMEZONE
TZID:Europe/Ljubljana
BEGIN:DAYLIGHT
TZOFFSETFROM:+0100
TZOFFSETTO:+0200
TZNAME:CEST
DTSTART:20230326T010000
END:DAYLIGHT
BEGIN:STANDARD
TZOFFSETFROM:+0200
TZOFFSETTO:+0100
TZNAME:CET
DTSTART:20231029T010000
END:STANDARD
BEGIN:DAYLIGHT
TZOFFSETFROM:+0100
TZOFFSETTO:+0200
TZNAME:CEST
DTSTART:20240331T010000
END:DAYLIGHT
BEGIN:STANDARD
TZOFFSETFROM:+0200
TZOFFSETTO:+0100
TZNAME:CET
DTSTART:20241027T010000
END:STANDARD
BEGIN:DAYLIGHT
TZOFFSETFROM:+0100
TZOFFSETTO:+0200
TZNAME:CEST
DTSTART:20250330T010000
END:DAYLIGHT
BEGIN:STANDARD
TZOFFSETFROM:+0200
TZOFFSETTO:+0100
TZNAME:CET
DTSTART:20251026T010000
END:STANDARD
BEGIN:DAYLIGHT
TZOFFSETFROM:+0100
TZOFFSETTO:+0200
TZNAME:CEST
DTSTART:20260329T010000
END:DAYLIGHT
BEGIN:STANDARD
TZOFFSETFROM:+0200
TZOFFSETTO:+0100
TZNAME:CET
DTSTART:20261025T010000
END:STANDARD
END:VTIMEZONE
BEGIN:VEVENT
DTSTART;TZID=Europe/Ljubljana:20250207T200000
DTEND;TZID=Europe/Ljubljana:20250207T210000
DTSTAMP:20260422T211327
CREATED:20250203T090703Z
LAST-MODIFIED:20250203T105549Z
UID:27926-1738958400-1738962000@www.notranji-izvir.si
SUMMARY:Spletna meditacija - Negovanje odnosov
DESCRIPTION:Skupinska meditacija – podpora za raziskovanje vaše notranje pokrajine\nMeditacijo vodi: Maja Papež Iskra \n\n\n\n\n\n\n\n\n\n\n\n\nV petek\, 7. februarja 2025\,  ob 20. uri  se mi lahko pridružite na spletni meditaciji. \nNa tem srečanju se bomo posvetili negovanju odnosov: kako v odnosih odpremo srce ter jih podpremo z ljubeznijo s pomočjo vaj osmica in trikotnik. Spregovorili bomo o različnih jezikih ljubezni\, oblikah delovanja ter o hvaležnosti in odpuščanju\, ki nam lahko pri tem pomagajo. \nSpoznali bomo tudi vaje za uravnovešanje: animus/anima\, jin-jang\, mandala in morda še kakšno. Stanje naše notranje harmonije\, stabilnosti in integriranosti namreč vpliva na to\, v kakšne odnose vstopamo in kako v njih reagiramo. \nNajprej vam bom na kratko predstavila simbole\, nato pa se bomo vanje potopili za osebno izkušnjo\, ki bo zaradi skupine še močnejša. \nMeditacija bo čudovita priložnost\, da spoznate simbole in vaje\, ki jih omenjam na predavanjih\, v kratkih objavah in člankih. Hkrati pa je lahko podpora vsem\, ki simbole že poznate in se že potapljate z njimi v svoje nezavedno. Simboli in vizualizacije vam bodo podarili globlje notranje zavedanje za različne vidike vaše psihe. \nČe želite\, si lahko o vajah preberete več v spodnji PDF knjigi ali na moji spletni strani pod zavihkom: Zanimivo branje \nProsim za potrditev udeležbe in prostovoljne prispevke za srečanje. Že vnaprej se vam iskreno zahvaljujemo za vašo podporo! \nTopel objem vsem.\nMaja \n\n\n\n\n\n\n\n\n\n\n\n\nZOOM meditatvno srečanjePovzetki vaj so na voljo v knjigi! >>> \nOb dogovorjenem času kliknite spodnjo povezavo ali zgornji gumb\, ki vas bo vključil v spletno meditacijo. Meditacija bo potekala prek ZOOM videokonference. Ob morebitnih zapletih mi pošljite svoj e-naslov na info@notranji-izvir.si\, da vam lahko pošljem povabilo. Prosimo vas\, da se v dogodek vključite nekaj minut pred začetkom\, saj med vodenjem meditacije ne bom mogla reševati težav. \nhttps://us06web.zoom.us/j/89553863876?pwd=SvN7fvKTHbeDggFVs0xdWGsCYqDSzy.1\nPodatki za prostovoljne prispevke in donacije<<< Dodajam še SumUp link za prostovoljne prispevke za plačila s kartico.
URL:https://www.notranji-izvir.si/dogodek/spletna-meditacija-negovanje-odnosov/
LOCATION:Spletna učilnica\, ZOOM
CATEGORIES:spletna meditacija
ATTACH;FMTTYPE=image/jpeg:https://www.notranji-izvir.si/wp-content/uploads/2025/02/Meditacija-z-Majo.jpg
ORGANIZER;CN="Zavod Notranji izvir":MAILTO:info@notranji-izvir.si
END:VEVENT
BEGIN:VEVENT
DTSTART;TZID=Europe/Ljubljana:20250103T200000
DTEND;TZID=Europe/Ljubljana:20250103T203000
DTSTAMP:20260422T211327
CREATED:20250102T102032Z
LAST-MODIFIED:20250201T133403Z
UID:27918-1735934400-1735936200@www.notranji-izvir.si
SUMMARY:Spletna meditacija - Razpletanje vozlov v odnosih
DESCRIPTION:Skupinska meditacija – podpora za raziskovanje vaše notranje pokrajine\nMeditacijo vodi: Maja Papež Iskra \n\n\n\n\n\n\n\n\n\n\n\n\nV petek\, 3. januarja 2025\,  vas ob 20. uri  vabim na spletno meditacijo. \nNa tem srečanju se bomo posvetili razumevanju globljega dogajanja v odnosih ter razpletanju vozlov v odnosih z vajama osmica in trikotnik. Predvsem bomo kot detektivi raziskovali\, kaj v naši psihi odreagira na zunanje sprožilce v odnosih\, katere omejujoče vsebine v naši podzavesti nam povzročajo frustracije in težave\, ter kako jih lahko spremenimo. \nČe bomo imeli čas\, bomo ozaveščali tudi pomembne avtoritativne odnose in pomembne odnose iz našega zgodnjega obdobja ter kasnejših faz življenja. \nNajprej vam bom na kratko predstavila simbole\, nato pa se bomo vanje potopili za osebno izkušnjo\, ki bo zaradi skupine še močnejša. \nMeditacija bo čudovita priložnost\, da spoznate simbole in vaje\, ki jih omenjam na predavanjih\, v kratkih objavah in člankih. Hkrati pa je lahko podpora vsem\, ki simbole že poznate in se že potapljate z njimi v svoje nezavedno. Simboli in vizualizacije vam bodo podarili globlje notranje zavedanje za različne vidike vaše psihe. \nČe želite\, si lahko o vajah preberete več v spodnji PDF knjigi ali na moji spletni strani pod zavihkom: Zanimivo branje \nProsim za potrditev udeležbe in prostovoljne prispevke za srečanje. Že vnaprej se vam iskreno zahvaljujemo za vašo podporo! \nTopel objem vsem.\nMaja \n\n\n\n\n\n\n\n\n\n\n\n\nZOOM meditatvno srečanjePovzetki vaj so na voljo v knjigi! >>> \nOb dogovorjenem času kliknite spodnjo povezavo ali zgornji gumb\, ki vas bo vključil v spletno meditacijo. Meditacija bo potekala prek ZOOM videokonference. Ob morebitnih zapletih mi pošljite svoj e-naslov na info@notranji-izvir.si\, da vam lahko pošljem povabilo. Prosimo vas\, da se v dogodek vključite nekaj minut pred začetkom\, saj med vodenjem meditacije ne bom mogla reševati težav. \nhttps://us06web.zoom.us/j/89553863876?pwd=SvN7fvKTHbeDggFVs0xdWGsCYqDSzy.1\nPodatki za prostovoljne prispevke in donacije<<< Dodajam še SumUp link za prostovoljne prispevke za plačila s kartico.
URL:https://www.notranji-izvir.si/dogodek/spletna-meditacija-razpletanje-vozlov-v-odnosih/
LOCATION:Spletna učilnica\, ZOOM
CATEGORIES:spletna meditacija
ATTACH;FMTTYPE=image/jpeg:https://www.notranji-izvir.si/wp-content/uploads/2025/02/Meditacija-z-Majo.jpg
ORGANIZER;CN="Zavod Notranji izvir":MAILTO:info@notranji-izvir.si
END:VEVENT
BEGIN:VEVENT
DTSTART;TZID=Europe/Ljubljana:20240607T200000
DTEND;TZID=Europe/Ljubljana:20240607T210000
DTSTAMP:20260422T211327
CREATED:20240202T115144Z
LAST-MODIFIED:20240401T054454Z
UID:27769-1717790400-1717794000@www.notranji-izvir.si
SUMMARY:Spletna-meditacija-z-Majo-07-06-2024
DESCRIPTION:Spletna meditacija – poglabljanje vase v udobju vašega doma\, podpora za notranje raziskovanje\n \nMeditacijo vodi: Maja Papež Iskra \nV petek\, 7. junija 2024\,  vas ob 20. uri  vabim na spletno meditacijo. \n\n\n\n\n\n\n\n\n\n\n\n\nMeditacija bo čudovita priložnost\, da spoznate simbole in vaje\, ki jih omenjam na predavanjih\, v kratkih objavah in člankih. Hkrati pa je lahko podpora vsem\, ki simbole že poznate in se že potapljate z njimi v svoje nezavedno. Simboli in vizualizacije vam bodo podarili globlje notranje zavedanje za različne vidike vaše psihe. \nNa srečanju se bomo posvetili vajam: mlaj – za skupinsko povezovanje z notranjim vodstvom\, vaji osmica 8 – za omejevanje destruktivnih vplivov v odnosih in s strani programov v podzavesti. Ostale vaje pa si lahko izberete na spodnji povezavi in mi predloge pošljete na info@notranji-izvir.si. \nProsim tudi za potrditve in prostovoljne prispevke za srečanje. \n\n\n\n\n\n\n\n\n\n\n\n\nIzberite vaje s klikom na knjigo.Meet meditatvno srečanjeOb dogovorjenem času le kliknete na spodnji link ali na zgornji gumb\, ki vas bo vključil v spletno meditacijo. Meditacija bo potekala preko Google Meet videokonference. Za to obliko srečanj Google račun ni potreben. Srečanju se lahko pridružite kot gost. Ob morebitni komplikaciji\, mi pošljite svoj mail na info@notranji-izvir.si\, da vam pošljem povabilo. Zato vas prosim\, da se v dogodek vključite nekaj minut pred začetkom. Med vodenjem meditacije ne bom mogla reševati zapletov. \nhttps://meet.google.com/kxr-erem-byt\nZahvaljujem se vam tudi za vaše prostovoljne prispevke! \nProstovoljni prispevki in donacije
URL:https://www.notranji-izvir.si/dogodek/spletna-meditacija-z-majo-07-06-2024/
LOCATION:Spletna učilnica\, ZOOM
CATEGORIES:spletna meditacija
ATTACH;FMTTYPE=image/jpeg:https://www.notranji-izvir.si/wp-content/uploads/2021/09/slider-trakovi_pk.jpg
ORGANIZER;CN="Zavod Notranji izvir":MAILTO:info@notranji-izvir.si
END:VEVENT
BEGIN:VEVENT
DTSTART;TZID=Europe/Ljubljana:20240503T200000
DTEND;TZID=Europe/Ljubljana:20240503T210000
DTSTAMP:20260422T211327
CREATED:20240202T114736Z
LAST-MODIFIED:20240429T084129Z
UID:27768-1714766400-1714770000@www.notranji-izvir.si
SUMMARY:Spletna-meditacija-z-Majo-03-05-2024
DESCRIPTION:Spletna meditacija – poglabljanje vase v udobju vašega doma\, podpora za notranje raziskovanje\, tudi med počitnicami in na dopustu!\n \nMeditacijo vodi: Maja Papež Iskra \nV petek\, 3. maja 2024\,  vas ob 20. uri  vabim na spletno meditacijo. \n\n\n\n\n\n\n\n\n\n\n\n\nMeditacija bo čudovita priložnost\, da spoznate simbole in vaje\, ki jih omenjam na predavanjih\, v kratkih objavah in člankih. Hkrati pa je lahko podpora vsem\, ki simbole že poznate in se že potapljate z njimi v svoje nezavedno. Simboli in vizualizacije vam bodo podarili globlje notranje zavedanje za različne vidike vaše psihe. \nNa srečanju se bomo posvetili vajam: mlaj – za skupinsko povezovanje z notranjim vodstvom\, vaji osmica 8 – za omejevanje destruktivnih vplivov v odnosih in s strani programov v podzavesti. Ostale vaje pa si lahko izberete na spodnji povezavi in mi predloge pošljete na info@notranji-izvir.si. \nProsim tudi za potrditve in prostovoljne prispevke za srečanje. \n\n\n\n\n\n\n\n\n\n\n\n\nIzberite vaje s klikom na knjigo.ZOOM meditatvno srečanjeOb dogovorjenem času kliknete na spodnji link ali na zgornji gumb\, ki vas bo vključil v spletno meditacijo. Meditacija bo potekala preko ZOOM videokonference. Ob morebitni komplikaciji\, mi pošljite svoj mail na info@notranji-izvir.si\, da vam pošljem povabilo. Zato vas prosim\, da se v dogodek vključite nekaj minut pred začetkom. Med vodenjem meditacije ne bom mogla reševati zapletov. \nhttps://us06web.zoom.us/j/89553863876?pwd=SvN7fvKTHbeDggFVs0xdWGsCYqDSzy.1\nZahvaljujem se vam tudi za vaše prostovoljne prispevke! \nProstovoljni prispevki in donacije
URL:https://www.notranji-izvir.si/dogodek/spletna-meditacija-z-majo-03-05-2024/
LOCATION:Spletna učilnica\, ZOOM
CATEGORIES:spletna meditacija
ATTACH;FMTTYPE=image/jpeg:https://www.notranji-izvir.si/wp-content/uploads/2021/09/slider-trakovi_pk.jpg
ORGANIZER;CN="Zavod Notranji izvir":MAILTO:info@notranji-izvir.si
END:VEVENT
END:VCALENDAR