BEGIN:VCALENDAR
VERSION:2.0
PRODID:-//Zavod  Notranji izvir - ECPv6.15.20//NONSGML v1.0//EN
CALSCALE:GREGORIAN
METHOD:PUBLISH
X-WR-CALNAME:Zavod  Notranji izvir
X-ORIGINAL-URL:https://www.notranji-izvir.si
X-WR-CALDESC:Dogodki za Zavod  Notranji izvir
REFRESH-INTERVAL;VALUE=DURATION:PT1H
X-Robots-Tag:noindex
X-PUBLISHED-TTL:PT1H
BEGIN:VTIMEZONE
TZID:Europe/Ljubljana
BEGIN:DAYLIGHT
TZOFFSETFROM:+0100
TZOFFSETTO:+0200
TZNAME:CEST
DTSTART:20230326T010000
END:DAYLIGHT
BEGIN:STANDARD
TZOFFSETFROM:+0200
TZOFFSETTO:+0100
TZNAME:CET
DTSTART:20231029T010000
END:STANDARD
BEGIN:DAYLIGHT
TZOFFSETFROM:+0100
TZOFFSETTO:+0200
TZNAME:CEST
DTSTART:20240331T010000
END:DAYLIGHT
BEGIN:STANDARD
TZOFFSETFROM:+0200
TZOFFSETTO:+0100
TZNAME:CET
DTSTART:20241027T010000
END:STANDARD
BEGIN:DAYLIGHT
TZOFFSETFROM:+0100
TZOFFSETTO:+0200
TZNAME:CEST
DTSTART:20250330T010000
END:DAYLIGHT
BEGIN:STANDARD
TZOFFSETFROM:+0200
TZOFFSETTO:+0100
TZNAME:CET
DTSTART:20251026T010000
END:STANDARD
BEGIN:DAYLIGHT
TZOFFSETFROM:+0100
TZOFFSETTO:+0200
TZNAME:CEST
DTSTART:20260329T010000
END:DAYLIGHT
BEGIN:STANDARD
TZOFFSETFROM:+0200
TZOFFSETTO:+0100
TZNAME:CET
DTSTART:20261025T010000
END:STANDARD
END:VTIMEZONE
BEGIN:VEVENT
DTSTART;TZID=Europe/Ljubljana:20251003T190000
DTEND;TZID=Europe/Ljubljana:20251003T210000
DTSTAMP:20260423T191720
CREATED:20250925T192850Z
LAST-MODIFIED:20250925T193652Z
UID:27961-1759518000-1759525200@www.notranji-izvir.si
SUMMARY:Delavnica: Vpliv zgodnjih odnosov na naše življenje
DESCRIPTION:Vabilo na delavnico: Vpliv zgodnjih odnosov na naše življenje\n3. oktober 2025 ob 19. uri\, spletni dogodek\nDelavnico bo vodila Maja Papež Iskra \nCena: 30 €. \nZgodnji odnosi nas močno zaznamujejo. Njihov vpliv oblikuje naš odnos do sebe\, do drugih ljudi in do vseh področij življenja – celo do tistega\, kar pogosto razumemo kot svojo “usodo”\, okoliščine\, za katere se zdi\, da nimamo vpliva. \nNa delavnici bomo ustvarili zemljevid zgodnjih avtoritativnih in drugih pomembnih odnosov  ter raziskali\, kaj nas je v teh odnosih najbolj zaznamovalo. Izvedeli boste\, kako razplesti vezi z njimi in se osvoboditi njihovega omejujočega vpliva. \nV nadaljevanju se bomo poglobili v odnos s starši\, v čas\, ki smo ga preživeli v maternici\, v okoliščine rojstva ter v zgodnje odnose s skrbniki do približno šestega leta starosti. Posebno pozornost bomo namenili tako imenovanemu *projektu namena* – povečini nezavednim vsebinam\, ki so se v času tesnega zlitja s psihami staršev prenesli na nas pred in po rojstvu. \nNaša podzavest pogosto ponotranji želje\, strahove in neizpolnjene potrebe staršev ter jih razume kot namen našega življenja. Ti programi so pogosto v nasprotju z našimi zavestnimi hotenji\, željami in nas kasneje vodijo k neustreznim izbiram v odnosih\, težavam na področju financ\, zdravja ali dela. So lahko tudi vzrok v ozadju naših bolezni. \nNa delavnici vam bom s svojim znanjem in praktičnimi primeri pomagala prepoznati\, dekodirati te zapise in jih spremeniti. Lahko si boste ustvarili nov\, za vas bolj ustrezen program\, ga vtisnili v podzavesti in tako stopili na svojo pot – osvobojeni starih bremen in v skladu s svojimi hrepenenji. \nDelavnica bo potekla preko spletne učilnice ZOOM. Bo interaktivna\, zato si pripravite papir in svinčnik. Trajala bo dve uri. Zaradi osebnih zgodb posnetek ne bo na voljo. Zato si rezervirajte čas zase. \nPrijave: pišite na info@notranji-izvir.si ali izpolnite obrazec na www.notranji-izvir.si/contact-2/ \n \nDelavnico bom vodila Maja Papež Iskra\, svetovalka za osebno rast in vodička po notranjih svetovih. Že 20 let je kar vodim skupine za samopomoč\, predavam\, pišem in s svojim znanjem in izkušnjami pri delu s subtilnimi vidiki naše psihe pomagam ljudem na njihovi poti osebne transformacije.\nUčim ljudi\, kako lahko živimo bolj navdahnjeno življenje v stiku z notranjim vodstvom in kako se osvobodimo bremen preteklosti\, ki so vzrok problemov\, s katerimi se soočamo na vseh področjih življenja. \nPodatki za plačilo:\nZnesek: 30 €\nNamen: Delavnica – vaše ime in priimek\nIBAN: SI56 1010 0005 1519 993 (Banka Intesa Sanpaolo)\nSklic: 00 (lahko datum plačila) \nNaslov:\nZavod Notranji izvir\nŠmihel 35a\n8360 Žužemberk \nPlačilo je možno tudi prek povezave SumUp \nhttps://pay.sumup.com/b2c/QWAPVBXR \npovezava ZoomPovezava Zoom:Ob dogovorjenem času kliknite spodnjo povezavo ali zgornji gumb. Dogodek bo potekal prek Zoom videokonference. Če bi imeli težave s povezavo\, mi pošljite svoj e-naslov na info@notranji-izvir.si\, da vam lahko pošljem povabilo. V dogodek se vključite nekaj minut pred začetkom\, saj med vodenjem delavnice ne bom mogla reševati težav. \nhttps://us06web.zoom.us/j/89553863876?pwd=SvN7fvKTHbeDggFVs0xdWGsCYqDSzy.1
URL:https://www.notranji-izvir.si/dogodek/delavnica-vpliv-zgodnjih-odnosov-na-nase-zivljenje/
LOCATION:Spletna učilnica\, ZOOM
CATEGORIES:delavnice
ATTACH;FMTTYPE=image/jpeg:https://www.notranji-izvir.si/wp-content/uploads/2025/09/Delavnica-z-Majo-web-2.jpg
ORGANIZER;CN="Zavod Notranji izvir":MAILTO:info@notranji-izvir.si
END:VEVENT
BEGIN:VEVENT
DTSTART;TZID=Europe/Ljubljana:20250527T170000
DTEND;TZID=Europe/Ljubljana:20250527T190000
DTSTAMP:20260423T191720
CREATED:20250512T140459Z
LAST-MODIFIED:20250512T145701Z
UID:27952-1748365200-1748372400@www.notranji-izvir.si
SUMMARY:Predavanje: Negovanje odnosov
DESCRIPTION:Na predavanju se bomo posvetili negovanju odnosov. Poleg ozaveščanja\, kaj se v odnosih dogaja na globlji ravni\, potrebujemo v njih tudi veliko modrosti in ljubezni. Učili se bomo\, kako v odnosih odpreti srce ter jih podpreti z ljubeznijo\, razumevanjem in spoštovanjem različnosti. \nSpregovorili bomo o različnih jezikih ljubezni\, o starih programih v naši psihi\, ki vplivajo na naše delovanje\, ter o vlogi hvaležnosti in odpuščanja\, ki nas lahko podpreta na tej poti. \nSpoznali bomo tudi vaje za notranje uravnovešanje\, kot so jin-jang\, mandala\, animus in anima\, saj naše notranje stanje – stopnja harmonije\, stabilnosti in integriranosti – močno vpliva na to\, v kakšne odnose vstopamo in kako v njih delujemo. \nPredavala bo Maja Papež Iskra\, svetovalka za osebno rast v Zavodu Notranji izvir. Že več kot 20 let vodi skupine za samopomoč\, predava in svetuje posameznikom. S svojim poglobljenim znanjem\, osebnimi izkušnjami in razumevanjem subtilnega sveta podpira ljudi na poti osebne preobrazbe in rasti. \n#ricnovomesto #TVU2025 #TVU30let #ParadaUčenja2025 #ZavodNotranjiizvir #MajaPapežIskra \n#odnosi #negovanjeodnosov #jezikljubezni #animusanima #jinjang #hvaležnost #odpuščanje \n \nŠe drugi dogodki ZNI
URL:https://www.notranji-izvir.si/dogodek/predavanje-negovanje-odnosov/
LOCATION:RIC Novo mesto\, Topliška cesta 2\, Novo mesto\, 8000\, Slovenija
CATEGORIES:predavanja
ATTACH;FMTTYPE=image/jpeg:https://www.notranji-izvir.si/wp-content/uploads/2021/10/f961b137-e854-4326-a952-60a70c951485.jpg
ORGANIZER;CN="Zavod Notranji izvir":MAILTO:info@notranji-izvir.si
END:VEVENT
BEGIN:VEVENT
DTSTART;TZID=Europe/Ljubljana:20250207T200000
DTEND;TZID=Europe/Ljubljana:20250207T210000
DTSTAMP:20260423T191720
CREATED:20250203T090703Z
LAST-MODIFIED:20250203T105549Z
UID:27926-1738958400-1738962000@www.notranji-izvir.si
SUMMARY:Spletna meditacija - Negovanje odnosov
DESCRIPTION:Skupinska meditacija – podpora za raziskovanje vaše notranje pokrajine\nMeditacijo vodi: Maja Papež Iskra \n\n\n\n\n\n\n\n\n\n\n\n\nV petek\, 7. februarja 2025\,  ob 20. uri  se mi lahko pridružite na spletni meditaciji. \nNa tem srečanju se bomo posvetili negovanju odnosov: kako v odnosih odpremo srce ter jih podpremo z ljubeznijo s pomočjo vaj osmica in trikotnik. Spregovorili bomo o različnih jezikih ljubezni\, oblikah delovanja ter o hvaležnosti in odpuščanju\, ki nam lahko pri tem pomagajo. \nSpoznali bomo tudi vaje za uravnovešanje: animus/anima\, jin-jang\, mandala in morda še kakšno. Stanje naše notranje harmonije\, stabilnosti in integriranosti namreč vpliva na to\, v kakšne odnose vstopamo in kako v njih reagiramo. \nNajprej vam bom na kratko predstavila simbole\, nato pa se bomo vanje potopili za osebno izkušnjo\, ki bo zaradi skupine še močnejša. \nMeditacija bo čudovita priložnost\, da spoznate simbole in vaje\, ki jih omenjam na predavanjih\, v kratkih objavah in člankih. Hkrati pa je lahko podpora vsem\, ki simbole že poznate in se že potapljate z njimi v svoje nezavedno. Simboli in vizualizacije vam bodo podarili globlje notranje zavedanje za različne vidike vaše psihe. \nČe želite\, si lahko o vajah preberete več v spodnji PDF knjigi ali na moji spletni strani pod zavihkom: Zanimivo branje \nProsim za potrditev udeležbe in prostovoljne prispevke za srečanje. Že vnaprej se vam iskreno zahvaljujemo za vašo podporo! \nTopel objem vsem.\nMaja \n\n\n\n\n\n\n\n\n\n\n\n\nZOOM meditatvno srečanjePovzetki vaj so na voljo v knjigi! >>> \nOb dogovorjenem času kliknite spodnjo povezavo ali zgornji gumb\, ki vas bo vključil v spletno meditacijo. Meditacija bo potekala prek ZOOM videokonference. Ob morebitnih zapletih mi pošljite svoj e-naslov na info@notranji-izvir.si\, da vam lahko pošljem povabilo. Prosimo vas\, da se v dogodek vključite nekaj minut pred začetkom\, saj med vodenjem meditacije ne bom mogla reševati težav. \nhttps://us06web.zoom.us/j/89553863876?pwd=SvN7fvKTHbeDggFVs0xdWGsCYqDSzy.1\nPodatki za prostovoljne prispevke in donacije<<< Dodajam še SumUp link za prostovoljne prispevke za plačila s kartico.
URL:https://www.notranji-izvir.si/dogodek/spletna-meditacija-negovanje-odnosov/
LOCATION:Spletna učilnica\, ZOOM
CATEGORIES:spletna meditacija
ATTACH;FMTTYPE=image/jpeg:https://www.notranji-izvir.si/wp-content/uploads/2025/02/Meditacija-z-Majo.jpg
ORGANIZER;CN="Zavod Notranji izvir":MAILTO:info@notranji-izvir.si
END:VEVENT
BEGIN:VEVENT
DTSTART;TZID=Europe/Ljubljana:20250121T180000
DTEND;TZID=Europe/Ljubljana:20250121T190000
DTSTAMP:20260423T191720
CREATED:20241223T112640Z
LAST-MODIFIED:20250107T150112Z
UID:27912-1737482400-1737486000@www.notranji-izvir.si
SUMMARY:Predavanje: Subtilni vplivi v odnosih
DESCRIPTION:Odnosi so lahko zelo pomirjujoč vidik našega življenja\, vendar nas lahko tudi zelo frustrirajo. V njih smo vpleteni ves čas\, vsako srečanje pa je zapleten preplet zunanjega in notranjega dogajanja. Na predavanju bomo raziskovali subtilne vplive\, ki oblikujejo našo zaznavo\, reakcije\, vedenje in komunikacijo v stikih z drugimi. Spoznali bomo\, kako prepoznati in preseči omejujoče vzorce\, mehanizme v naši psihi ter kako že majhna sprememba v notranji naravnavi lahko prinese več stabilnosti in umirjenosti ter ustvari prostor za spremembe tudi v naših odnosih. \nPredavala bo Maja Papež Iskra\, svetovalka za osebno rast v Zavodu Notranji izvir. Že več kot 20 let vodi skupine za samopomoč\, predava in svetuje posameznikom. S svojim poglobljenim znanjem\, osebnimi izkušnjami in razumevanjem subtilnega sveta podpira ljudi na poti osebne preobrazbe in rasti. \n#odnosi #subtilnivplivi #zgodnjivplivi #otrostvo #podzavest #razreševanjezapletov \n  \nProstovoljni prispevki so dobrodošli. \n \n 
URL:https://www.notranji-izvir.si/dogodek/predavanje-subtilni-vplivi-v-odnosih-2/
LOCATION:Knjižnica Mirana Jarca\, Rozmanova ulica 28\, Novo mesto
CATEGORIES:predavanja
ATTACH;FMTTYPE=image/jpeg:https://www.notranji-izvir.si/wp-content/uploads/2021/10/f961b137-e854-4326-a952-60a70c951485.jpg
ORGANIZER;CN="Zavod Notranji izvir":MAILTO:info@notranji-izvir.si
END:VEVENT
BEGIN:VEVENT
DTSTART;TZID=Europe/Ljubljana:20250103T200000
DTEND;TZID=Europe/Ljubljana:20250103T203000
DTSTAMP:20260423T191720
CREATED:20250102T102032Z
LAST-MODIFIED:20250201T133403Z
UID:27918-1735934400-1735936200@www.notranji-izvir.si
SUMMARY:Spletna meditacija - Razpletanje vozlov v odnosih
DESCRIPTION:Skupinska meditacija – podpora za raziskovanje vaše notranje pokrajine\nMeditacijo vodi: Maja Papež Iskra \n\n\n\n\n\n\n\n\n\n\n\n\nV petek\, 3. januarja 2025\,  vas ob 20. uri  vabim na spletno meditacijo. \nNa tem srečanju se bomo posvetili razumevanju globljega dogajanja v odnosih ter razpletanju vozlov v odnosih z vajama osmica in trikotnik. Predvsem bomo kot detektivi raziskovali\, kaj v naši psihi odreagira na zunanje sprožilce v odnosih\, katere omejujoče vsebine v naši podzavesti nam povzročajo frustracije in težave\, ter kako jih lahko spremenimo. \nČe bomo imeli čas\, bomo ozaveščali tudi pomembne avtoritativne odnose in pomembne odnose iz našega zgodnjega obdobja ter kasnejših faz življenja. \nNajprej vam bom na kratko predstavila simbole\, nato pa se bomo vanje potopili za osebno izkušnjo\, ki bo zaradi skupine še močnejša. \nMeditacija bo čudovita priložnost\, da spoznate simbole in vaje\, ki jih omenjam na predavanjih\, v kratkih objavah in člankih. Hkrati pa je lahko podpora vsem\, ki simbole že poznate in se že potapljate z njimi v svoje nezavedno. Simboli in vizualizacije vam bodo podarili globlje notranje zavedanje za različne vidike vaše psihe. \nČe želite\, si lahko o vajah preberete več v spodnji PDF knjigi ali na moji spletni strani pod zavihkom: Zanimivo branje \nProsim za potrditev udeležbe in prostovoljne prispevke za srečanje. Že vnaprej se vam iskreno zahvaljujemo za vašo podporo! \nTopel objem vsem.\nMaja \n\n\n\n\n\n\n\n\n\n\n\n\nZOOM meditatvno srečanjePovzetki vaj so na voljo v knjigi! >>> \nOb dogovorjenem času kliknite spodnjo povezavo ali zgornji gumb\, ki vas bo vključil v spletno meditacijo. Meditacija bo potekala prek ZOOM videokonference. Ob morebitnih zapletih mi pošljite svoj e-naslov na info@notranji-izvir.si\, da vam lahko pošljem povabilo. Prosimo vas\, da se v dogodek vključite nekaj minut pred začetkom\, saj med vodenjem meditacije ne bom mogla reševati težav. \nhttps://us06web.zoom.us/j/89553863876?pwd=SvN7fvKTHbeDggFVs0xdWGsCYqDSzy.1\nPodatki za prostovoljne prispevke in donacije<<< Dodajam še SumUp link za prostovoljne prispevke za plačila s kartico.
URL:https://www.notranji-izvir.si/dogodek/spletna-meditacija-razpletanje-vozlov-v-odnosih/
LOCATION:Spletna učilnica\, ZOOM
CATEGORIES:spletna meditacija
ATTACH;FMTTYPE=image/jpeg:https://www.notranji-izvir.si/wp-content/uploads/2025/02/Meditacija-z-Majo.jpg
ORGANIZER;CN="Zavod Notranji izvir":MAILTO:info@notranji-izvir.si
END:VEVENT
BEGIN:VEVENT
DTSTART;TZID=Europe/Ljubljana:20241126T180000
DTEND;TZID=Europe/Ljubljana:20241126T193000
DTSTAMP:20260423T191720
CREATED:20241104T074539Z
LAST-MODIFIED:20241223T112909Z
UID:27889-1732644000-1732649400@www.notranji-izvir.si
SUMMARY:Predavanje: Vpliv zgodnjih avtoritet na kasnejše odnose
DESCRIPTION:Na predavanju bomo raziskovali\, kako nas zgodnji odnosi s starši in avtoritetami oblikujejo ter vplivajo na naše kasnejše izbire\, prepričanja in odnose. Če subtilnih vezi\, ki smo jih kot otroci oblikovali za občutek varnosti\, v puberteti ne presežemo\, lahko v odraslosti postanejo ovire – še posebej\, kadar so bili ti odnosi s skrbniki in varuhi destruktivni. \nNerazrešene travme in čustvene vezi se nato pogosto izražajo v nezdravih vzorcih in konfliktih v partnerstvih ter drugih pomembnih odnosih. Na predavanju bomo ozaveščali te vplive in se učili\, kako jih preseči\, pozdraviti ter odstraniti subtilne vezi\, ki nas omejujejo. Ko se izvijemo iz lupine preteklih vplivov\, lažje zaživimo bolj avtentično in v stiku z notranjo modrostjo ustvarjamo ter negujemo harmonične\, izpolnjujoče odnose. \nPredavanje bo vodila Maja Papež Iskra\, svetovalka za osebno rast\, ki deluje v Zavodu Notranji izvir. Že več kot 20 let vodi skupine za samopomoč\, predava in svetuje posameznikom. S svojim poglobljenim znanjem\, osebnimi izkušnjami in razumevanjem subtilnega sveta podpira ljudi na poti osebne preobrazbe in rasti. \nProstovoljni prispevki so dobrodošli.
URL:https://www.notranji-izvir.si/dogodek/predavanje-vpliv-zgodnjih-avtoritet-na-kasnejse-odnose/
LOCATION:Knjižnica Mirana Jarca\, Rozmanova ulica 28\, Novo mesto
CATEGORIES:predavanja
ATTACH;FMTTYPE=image/jpeg:https://www.notranji-izvir.si/wp-content/uploads/2021/10/f961b137-e854-4326-a952-60a70c951485.jpg
ORGANIZER;CN="Zavod Notranji izvir":MAILTO:info@notranji-izvir.si
END:VEVENT
END:VCALENDAR