BEGIN:VCALENDAR
VERSION:2.0
PRODID:-//Zavod  Notranji izvir - ECPv6.15.20//NONSGML v1.0//EN
CALSCALE:GREGORIAN
METHOD:PUBLISH
X-WR-CALNAME:Zavod  Notranji izvir
X-ORIGINAL-URL:https://www.notranji-izvir.si
X-WR-CALDESC:Dogodki za Zavod  Notranji izvir
REFRESH-INTERVAL;VALUE=DURATION:PT1H
X-Robots-Tag:noindex
X-PUBLISHED-TTL:PT1H
BEGIN:VTIMEZONE
TZID:Europe/Ljubljana
BEGIN:DAYLIGHT
TZOFFSETFROM:+0100
TZOFFSETTO:+0200
TZNAME:CEST
DTSTART:20250330T010000
END:DAYLIGHT
BEGIN:STANDARD
TZOFFSETFROM:+0200
TZOFFSETTO:+0100
TZNAME:CET
DTSTART:20251026T010000
END:STANDARD
BEGIN:DAYLIGHT
TZOFFSETFROM:+0100
TZOFFSETTO:+0200
TZNAME:CEST
DTSTART:20260329T010000
END:DAYLIGHT
BEGIN:STANDARD
TZOFFSETFROM:+0200
TZOFFSETTO:+0100
TZNAME:CET
DTSTART:20261025T010000
END:STANDARD
BEGIN:DAYLIGHT
TZOFFSETFROM:+0100
TZOFFSETTO:+0200
TZNAME:CEST
DTSTART:20270328T010000
END:DAYLIGHT
BEGIN:STANDARD
TZOFFSETFROM:+0200
TZOFFSETTO:+0100
TZNAME:CET
DTSTART:20271031T010000
END:STANDARD
END:VTIMEZONE
BEGIN:VEVENT
DTSTART;TZID=Europe/Ljubljana:20260220T180000
DTEND;TZID=Europe/Ljubljana:20260220T190000
DTSTAMP:20260423T000255
CREATED:20260105T101413Z
LAST-MODIFIED:20260203T092019Z
UID:27980-1771610400-1771614000@www.notranji-izvir.si
SUMMARY:Predavanje: Vpliv zgodnjih izkušenj na kasnejše odnose
DESCRIPTION:Sence preteklosti v naših odnosih: kako se osvobodimo nezdravih navezanosti \nKo se rodimo\, je ključno\, da s starši vzpostavimo močne vezi\, ki nam dajo občutek varnosti in podporo za rast. V puberteti pa je prav\, da se te vezi razrahljajo\, saj le tako lahko začutimo svoja resnična hrepenenja in najdemo lastno pot v svet. \nČe se v teh fazah odraščanja zataknemo in vezi ostanejo premočne\, kasneje težko vzpostavimo kakovostne odnose v lastni družini – s partnerjem in otroki. Pod okriljem prepričanj staršev namreč težko začutimo\, kdo smo. Upor proti avtoritarnosti sam po sebi še ne prinese svobode\, saj nas razbolela negativna čustva na subtilnih ravneh le še močneje vežejo. \nVse\, česar v otroštvu ne uspemo zdravo predelati\, tako nezavedno preigravamo naprej v svojih novih odnosih – najsi bo s partnerjem\, otroki\, nadrejenimi ali sodelavci. \nNa predavanju bomo ozaveščali te vplive in se učili\, kako jih preseči. Ko se izvijemo iz lupine preteklih vplivov\, lažje zaživimo v stiku s seboj ter gradimo bolj harmonične in izpolnjujoče odnose na vseh področjih svojega življenja. \nPredavanje bo vodila Maja Papež Iskra\, svetovalka za osebno rast\, ki deluje v Zavodu Notranji izvir. Z več kot 22-letnimi izkušnjami v vodenju skupin za samopomoč\, predavanjih in individualnih svetovanjih pomaga ljudem na poti osebne transformacije \n  \n 
URL:https://www.notranji-izvir.si/dogodek/predavanje-vpliv-zgodnjih-izkusenj-na-kasnejse-odnose/
LOCATION:Večnamenska dvorana na Dvoru\, nad Foto Maver\, vhod s strani\, Dvor 12b\, Dvor\, 8631\, Slovenija
CATEGORIES:predavanja
ATTACH;FMTTYPE=image/jpeg:https://www.notranji-izvir.si/wp-content/uploads/2021/10/f961b137-e854-4326-a952-60a70c951485.jpg
END:VEVENT
END:VCALENDAR