BEGIN:VCALENDAR
VERSION:2.0
PRODID:-//Zavod  Notranji izvir - ECPv6.15.20//NONSGML v1.0//EN
CALSCALE:GREGORIAN
METHOD:PUBLISH
X-WR-CALNAME:Zavod  Notranji izvir
X-ORIGINAL-URL:https://www.notranji-izvir.si
X-WR-CALDESC:Dogodki za Zavod  Notranji izvir
REFRESH-INTERVAL;VALUE=DURATION:PT1H
X-Robots-Tag:noindex
X-PUBLISHED-TTL:PT1H
BEGIN:VTIMEZONE
TZID:Europe/Ljubljana
BEGIN:DAYLIGHT
TZOFFSETFROM:+0100
TZOFFSETTO:+0200
TZNAME:CEST
DTSTART:20250330T010000
END:DAYLIGHT
BEGIN:STANDARD
TZOFFSETFROM:+0200
TZOFFSETTO:+0100
TZNAME:CET
DTSTART:20251026T010000
END:STANDARD
BEGIN:DAYLIGHT
TZOFFSETFROM:+0100
TZOFFSETTO:+0200
TZNAME:CEST
DTSTART:20260329T010000
END:DAYLIGHT
BEGIN:STANDARD
TZOFFSETFROM:+0200
TZOFFSETTO:+0100
TZNAME:CET
DTSTART:20261025T010000
END:STANDARD
BEGIN:DAYLIGHT
TZOFFSETFROM:+0100
TZOFFSETTO:+0200
TZNAME:CEST
DTSTART:20270328T010000
END:DAYLIGHT
BEGIN:STANDARD
TZOFFSETFROM:+0200
TZOFFSETTO:+0100
TZNAME:CET
DTSTART:20271031T010000
END:STANDARD
END:VTIMEZONE
BEGIN:VEVENT
DTSTART;TZID=Europe/Ljubljana:20260206T180000
DTEND;TZID=Europe/Ljubljana:20260206T200000
DTSTAMP:20260423T094227
CREATED:20260129T224927Z
LAST-MODIFIED:20260130T095528Z
UID:28009-1770400800-1770408000@www.notranji-izvir.si
SUMMARY:Delavnica: Odnos s Seboj
DESCRIPTION:Povabilo na delavnico: Odnos s Seboj\nV petek\, 6. februarja 2026\, ob 18. uri. \nOdnos s seboj je eden najpomembnejših odnosov\, ki jih lahko vzpostavimo v življenju. \nKo se rodimo v naročje staršev\, se v zrcaljenju njihovih pogledov in odzivov v nas oblikuje prva podoba o sebi\, ki se kasneje razvije v temelj naše identitete: Jaz sem. \nVendar nas vrednote zunanjega sveta vztrajno usmerjajo\, da potrditve in varnost iščemo zunaj sebe. Začnemo verjeti\, da smo to\, kar imamo\, kar delamo in kako nas vidijo drugi. Tako se zasidramo v egu – v svojem lažnem jazu. \nTu se začne trpljenje. Ostajamo lačni\, ker nimamo notranjega sidrišča. Postanemo kot Mali princ na svojem drobnem planetu – osamljeni sredi praznine. \nModreci pravijo: »Odprite oči\, vi ste ljubezen.« Resnica je tako blizu\, če se obrnemo navznoter\, in tako daleč\, če gledamo v zunanji svet. Ko ta stik negujemo\, tudi sami postanemo luč. Povežemo se z Virom in postanemo eno z vsem\, kar je. \nNa delavnici se bomo posvetili: \n\nPovezavi z Višjo zavestjo: S pomočjo preprostih simbolov\, ki so jezik subtilnih svetov\, se bomo naučili povezati in negovati stik s svojim dušnim jedrom – svetlobo\, iz katere prihajamo.\nNegovanju stika: Zasidrali se bomo v viru podpore\, modrosti\, navdiha in Višje zavesti.\nKrepitvi kvalitet srca: Z igrivimi podobami iz narave bomo v svojem polju krepili kvalitete srca in brezpogojne ljubezni.\nOdkrivanju namena: Odkrivali bomo svoj dušni namen in fokus učenja v tej inkarnaciji.\n\nS to svetlobo se bomo preželi in jo širili navzven. Tako bomo prinašalci svetlobe za svoje okolje\, ki to še kako potrebuje. \nVeselim se potovanja z vami\, \nMaja \n\nInformacije o dogodku:\nKdaj: petek\, 6. februar 2026 ob 18. uri\,\nKje: spletni dogodek (ZOOM srečanje)\nPredavateljica: Maja Papež Iskra\nCena: 30 €. \nPrijave:  \n\ninfo@notranji-izvir.si\nwww.notranji-izvir.si/contact-2/\n031 576 699\n\nPo prijavi boste prejeli link do spletne meditacije. \nOpozorilo: Delavnica bo potekla preko spletne učilnice ZOOM. Bo interaktivna\, zato si pripravite papir in svinčnik. Trajala bo dve uri. Zaradi osebnih zgodb posnetek ne bo na voljo. Zato si rezervirajte čas zase. \n \nDelavnico bom vodila Maja Papež Iskra\, svetovalka za osebno rast in vodička po notranjih svetovih.\nŽe več kot 22 let spremljam ljudi na poti osebne preobrazbe. Učim\, kako spreminjati omejujoče programe v podzavesti\, se osvoboditi bremen preteklosti ter zaživeti v bolj zavestnem in navdahnjenem stiku z notranjim vodstvom. \nPodatki za plačilo:\nZnesek: 30 €\nNamen: Delavnica – vaše ime in priimek\nIBAN: SI56 1010 0005 1519 993 (Banka Intesa Sanpaolo)\nSklic: 00 (lahko datum plačila) \nNaslov:\nZavod Notranji izvir\nŠmihel 35a\n8360 Žužemberk \nPlačilo je možno tudi prek povezave SumUp \nhttps://pay.sumup.com/b2c/QWAPVBXR \npovezava ZoomPovezava Zoom: \nPovezavo do dogodka prejmete po prijavi.
URL:https://www.notranji-izvir.si/dogodek/delavnica-odnos-s-seboj/
LOCATION:Spletna učilnica\, ZOOM
CATEGORIES:delavnice
ATTACH;FMTTYPE=image/jpeg:https://www.notranji-izvir.si/wp-content/uploads/2025/09/Delavnica-z-Majo-web-2.jpg
ORGANIZER;CN="Zavod Notranji izvir":MAILTO:info@notranji-izvir.si
END:VEVENT
END:VCALENDAR