BEGIN:VCALENDAR
VERSION:2.0
PRODID:-//Zavod  Notranji izvir - ECPv6.15.20//NONSGML v1.0//EN
CALSCALE:GREGORIAN
METHOD:PUBLISH
X-WR-CALNAME:Zavod  Notranji izvir
X-ORIGINAL-URL:https://www.notranji-izvir.si
X-WR-CALDESC:Dogodki za Zavod  Notranji izvir
REFRESH-INTERVAL;VALUE=DURATION:PT1H
X-Robots-Tag:noindex
X-PUBLISHED-TTL:PT1H
BEGIN:VTIMEZONE
TZID:Europe/Ljubljana
BEGIN:DAYLIGHT
TZOFFSETFROM:+0100
TZOFFSETTO:+0200
TZNAME:CEST
DTSTART:20250330T010000
END:DAYLIGHT
BEGIN:STANDARD
TZOFFSETFROM:+0200
TZOFFSETTO:+0100
TZNAME:CET
DTSTART:20251026T010000
END:STANDARD
BEGIN:DAYLIGHT
TZOFFSETFROM:+0100
TZOFFSETTO:+0200
TZNAME:CEST
DTSTART:20260329T010000
END:DAYLIGHT
BEGIN:STANDARD
TZOFFSETFROM:+0200
TZOFFSETTO:+0100
TZNAME:CET
DTSTART:20261025T010000
END:STANDARD
BEGIN:DAYLIGHT
TZOFFSETFROM:+0100
TZOFFSETTO:+0200
TZNAME:CEST
DTSTART:20270328T010000
END:DAYLIGHT
BEGIN:STANDARD
TZOFFSETFROM:+0200
TZOFFSETTO:+0100
TZNAME:CET
DTSTART:20271031T010000
END:STANDARD
END:VTIMEZONE
BEGIN:VEVENT
DTSTART;TZID=Europe/Ljubljana:20260127T180000
DTEND;TZID=Europe/Ljubljana:20260127T193000
DTSTAMP:20260423T125755
CREATED:20260105T102928Z
LAST-MODIFIED:20260105T115818Z
UID:27992-1769536800-1769542200@www.notranji-izvir.si
SUMMARY:Predavanje: Zdravljenje notranjega otroka
DESCRIPTION:Kako se na varen način soočimo z bolečinami iz otroštva \nČe smo v otroštvu doživeli travmo\, zavrnitev\, zlorabo\, šok\, ločitev od staršev ali kak drug dogodek\, kjer smo ostali sami s svojo bolečino\, ostane ta košček osebnosti ujet v to doživetje. Rast se zaustavi in energija se zablokira. Zato tudi kot odrasli v podobnih situacijah odreagiramo s pretiranimi čustvenimi odzivi (strahom\, krivdo\, jezo\, sramom …). \nNa predavanju bomo osvetlili načine\, kako najdemo stik s temi bolečimi vsebinami\, jih ozavestimo in pozdravimo\, da bomo lažje sproščeno zadihali in v polnosti zaživeli svoje življenje. \n  \nPredavala bo Maja Papež Iskra\, ki v okviru Zavoda Notranji izvir deluje kot svetovalka za osebno rast. Že več kot 21 let spremlja ljudi pri procesih osebne preobrazbe in jih uči\, kako prepoznati notranje programe\, razrahljati vezi iz preteklosti in živeti v stiku z notranjim vodstvom. \nProstovoljni prispevki so dobrodošli.
URL:https://www.notranji-izvir.si/dogodek/predavanje-zdravljenje-notranjega-otroka/
LOCATION:Knjižnica Mirana Jarca\, Rozmanova ulica 28\, Novo mesto
CATEGORIES:predavanja
ATTACH;FMTTYPE=image/jpeg:https://www.notranji-izvir.si/wp-content/uploads/2021/10/f961b137-e854-4326-a952-60a70c951485.jpg
ORGANIZER;CN="Zavod Notranji izvir":MAILTO:info@notranji-izvir.si
END:VEVENT
END:VCALENDAR