BEGIN:VCALENDAR
VERSION:2.0
PRODID:-//Zavod  Notranji izvir - ECPv6.15.20//NONSGML v1.0//EN
CALSCALE:GREGORIAN
METHOD:PUBLISH
X-WR-CALNAME:Zavod  Notranji izvir
X-ORIGINAL-URL:https://www.notranji-izvir.si
X-WR-CALDESC:Dogodki za Zavod  Notranji izvir
REFRESH-INTERVAL;VALUE=DURATION:PT1H
X-Robots-Tag:noindex
X-PUBLISHED-TTL:PT1H
BEGIN:VTIMEZONE
TZID:Europe/Ljubljana
BEGIN:DAYLIGHT
TZOFFSETFROM:+0100
TZOFFSETTO:+0200
TZNAME:CEST
DTSTART:20250330T010000
END:DAYLIGHT
BEGIN:STANDARD
TZOFFSETFROM:+0200
TZOFFSETTO:+0100
TZNAME:CET
DTSTART:20251026T010000
END:STANDARD
BEGIN:DAYLIGHT
TZOFFSETFROM:+0100
TZOFFSETTO:+0200
TZNAME:CEST
DTSTART:20260329T010000
END:DAYLIGHT
BEGIN:STANDARD
TZOFFSETFROM:+0200
TZOFFSETTO:+0100
TZNAME:CET
DTSTART:20261025T010000
END:STANDARD
BEGIN:DAYLIGHT
TZOFFSETFROM:+0100
TZOFFSETTO:+0200
TZNAME:CEST
DTSTART:20270328T010000
END:DAYLIGHT
BEGIN:STANDARD
TZOFFSETFROM:+0200
TZOFFSETTO:+0100
TZNAME:CET
DTSTART:20271031T010000
END:STANDARD
END:VTIMEZONE
BEGIN:VEVENT
DTSTART;TZID=Europe/Ljubljana:20260306T180000
DTEND;TZID=Europe/Ljubljana:20260306T200000
DTSTAMP:20260422T081825
CREATED:20260225T110935Z
LAST-MODIFIED:20260225T110935Z
UID:28015-1772820000-1772827200@www.notranji-izvir.si
SUMMARY:Delavnica: Odnos s podzavestjo
DESCRIPTION:Povabilo na delavnico: Odnos s podzavestjo\nV petek\, 6. marca 2026\, ob 18. uri. \nPodzavest ima velik vpliv na naš zavestni um in naše življenje\, zato je dobro z njo imeti dober odnos. \nJe ena od naših treh oblik zavesti – poleg nje imamo še zavestni um in višjo zavest. Čeprav imata podzavest in višja zavest velik vpliv na naše življenje\, se v naši družbi premalo učimo\, kako pomembno je biti v stiku z njima. \nPrek podzavesti inteligenca narave skrbi za naše telo in preživetje. Vanjo se že od vsega začetka vgrajujejo programi naših staršev\, prednikov\, okolja in naših lastnih izkušenj\, ki smo jih srkali že v otroštvu. Vse te vsebine močno oblikujejo naš vsakdan\, saj ima po najnovejših raziskavah nevroznanosti podzavest kar 97-odstoten vpliv na naš zavestni um. Ker deluje pod nivojem našega zavedanja\, smo v odnosu do nje pogosto nemočni. \nJezik podzavesti je jezik simbolov in podob. Mediji\, politika in marketing že vedo\, kako spretno dostopati do nje. Ali bi se želeli tudi vi naučiti komunicirati s svojo podzavestjo? Kako biti v odnosu do nje bolj zavestni? Kako vzpostaviti odnos spoštljivega sodelovanja v skupni skrbi za svojo dolgoročno dobrobit? \nNa delavnici se bomo učili: \n\nKako deluje podzavest.\nKako zavestno komunicirati z njo.\nKako odkriti programe\, ki povzročajo težave na različnih področjih življenja.\nKako te programe odstraniti ali spremeniti (reprogramirati).\n\nMoč podzavesti je v naših rokah – v naši čuječnosti do dogajanja znotraj in zunaj nas. \nVeselim se potovanja z vami\, \nMaja \nInformacije in prijave: \nKdaj: petek\, 6. marec 2026 ob 18. uri\,\nKje: spletni dogodek (ZOOM srečanje)\nPredavateljica: Maja Papež Iskra\nCena: 30 €. \nPrijave:  \n\ninfo@notranji-izvir.si\nwww.notranji-izvir.si/contact-2/\n031 576 699\n\nPo prijavi boste prejeli link do spletne meditacije. \nOpozorilo: Delavnica bo potekla preko spletne učilnice ZOOM. Bo interaktivna\, zato si pripravite papir in svinčnik. Trajala bo dve uri\, lahko tudi dlje. Zaradi osebnih zgodb posnetek ne bo na voljo. Zato si rezervirajte čas zase. \n \nDelavnico bom vodila Maja Papež Iskra\, svetovalka za osebno rast in vodička po notranjih svetovih.\nŽe več kot 22 let spremljam ljudi na poti osebne preobrazbe. Učim\, kako spreminjati omejujoče programe v podzavesti\, se osvoboditi bremen preteklosti ter zaživeti v bolj zavestnem in navdahnjenem stiku z notranjim vodstvom. \nPodatki za plačilo:\nZnesek: 30 €\nNamen: Delavnica – vaše ime in priimek\nIBAN: SI56 1010 0005 1519 993 (Banka Intesa Sanpaolo)\nSklic: 00 (lahko datum plačila) \nNaslov:\nZavod Notranji izvir\nŠmihel 35a\n8360 Žužemberk \nPlačilo je možno tudi prek povezave SumUp \nhttps://pay.sumup.com/b2c/QWAPVBXR
URL:https://www.notranji-izvir.si/dogodek/delavnica-odnos-s-podzavestjo/
LOCATION:Spletna učilnica\, ZOOM
CATEGORIES:delavnice
ATTACH;FMTTYPE=image/jpeg:https://www.notranji-izvir.si/wp-content/uploads/2025/09/Delavnica-z-Majo-web-2.jpg
ORGANIZER;CN="Zavod Notranji izvir":MAILTO:info@notranji-izvir.si
END:VEVENT
END:VCALENDAR