BEGIN:VCALENDAR
VERSION:2.0
PRODID:-//Zavod  Notranji izvir - ECPv6.15.20//NONSGML v1.0//EN
CALSCALE:GREGORIAN
METHOD:PUBLISH
X-ORIGINAL-URL:https://www.notranji-izvir.si
X-WR-CALDESC:Dogodki za Zavod  Notranji izvir
REFRESH-INTERVAL;VALUE=DURATION:PT1H
X-Robots-Tag:noindex
X-PUBLISHED-TTL:PT1H
BEGIN:VTIMEZONE
TZID:Europe/Ljubljana
BEGIN:DAYLIGHT
TZOFFSETFROM:+0100
TZOFFSETTO:+0200
TZNAME:CEST
DTSTART:20240331T010000
END:DAYLIGHT
BEGIN:STANDARD
TZOFFSETFROM:+0200
TZOFFSETTO:+0100
TZNAME:CET
DTSTART:20241027T010000
END:STANDARD
BEGIN:DAYLIGHT
TZOFFSETFROM:+0100
TZOFFSETTO:+0200
TZNAME:CEST
DTSTART:20250330T010000
END:DAYLIGHT
BEGIN:STANDARD
TZOFFSETFROM:+0200
TZOFFSETTO:+0100
TZNAME:CET
DTSTART:20251026T010000
END:STANDARD
BEGIN:DAYLIGHT
TZOFFSETFROM:+0100
TZOFFSETTO:+0200
TZNAME:CEST
DTSTART:20260329T010000
END:DAYLIGHT
BEGIN:STANDARD
TZOFFSETFROM:+0200
TZOFFSETTO:+0100
TZNAME:CET
DTSTART:20261025T010000
END:STANDARD
END:VTIMEZONE
BEGIN:VEVENT
DTSTART;TZID=Europe/Ljubljana:20251107T180000
DTEND;TZID=Europe/Ljubljana:20251107T200000
DTSTAMP:20260423T001006
CREATED:20251020T094409Z
LAST-MODIFIED:20251020T100052Z
UID:27968-1762538400-1762545600@www.notranji-izvir.si
SUMMARY:Delavnica: Razpletanje vezi v odnosih
DESCRIPTION:Vabilo na delavnico: Razpletanje vezi v odnosih\n7. november 2025 ob 18. uri\, spletni dogodek\nDelavnico bo vodila Maja Papež Iskra \nCena: 30 €. \nRazpletanje vezi po Metodi Phyllis Krystal \nVabim vas na delavnico Razpletanje vezi v odnosih\, kjer bomo izvedli obred razreševanja vozlov v odnosih po Metodi Phyllis Krystal. Na obredu boste dobili globlji vpogled v dogajanje v svojih odnosih – v nerazrešene zaplete\, čustvene konflikte\, vsiljevanje volje in posledice omejujočih prepričanj. \nObred vam bo pomagal prepoznati vzroke vašega reagiranja in razumeti naravo notranjih konfliktov. S pomočjo zdravilne energije in vodstva Višje zavesti boste te vozle v svoji psihi lahko pozdravili in uravnovesili. \nCelotno dogajanje poteka v varnem\, ganljivem in ljubečem vzdušju. Skozi proces vas bom vodila po korakih\, vi pa se boste poglabljali vase – v tišini\, vsak v svojem ritmu. Za vprašanja vam bom na voljo po obredu. \nDobrobit obreda \nS tem obredom boste odstranili »gumbe« in programe\, ki sprožajo vaše reakcije in kot magnet pritegnejo določen tip ljudi in situacij v vaše življenje. Ko se boste osvobodili teh notranjih omejitev\, se boste lažje povezali z notranjim vodstvom in sledili svoji poti\, ne glede na dogajanje okrog vas. \nKo jih razrešimo\, se sprosti energija\, ki nas je vezala na preteklost\, in lažje stopimo v stik s sabo\, s svojim notranjim vodstvom ter zgradimo in oblikujemo bolj konstruktivne odnose. \nZa katere odnose je obred primeren? \n1. Omejujoči odnosi in izgube: Obred je koristen v odnosih z močnimi osebnostmi ali v težkih\, simbiotičnih odnosih\, v katerih težko postavimo meje\, ne moremo izraziti sebe\, se počutimo ujete ali izčrpane. \nObred je dragocen tudi ob izgubi – ločitvi\, prekinitvi stika ali smrti – ko odnos v srcu še ni doživel zaključka. Pomaga nam\, da se s spoštovanjem poslovimo od preteklosti\, z več notranjega miru nadaljujemo svojo pot in pogumno odpremo novo poglavje v življenju. \n2. Odnosi iz otroštva in avtoritete: Razpletanje vezi je priporočljivo tudi z osebami iz otroštva – s starši\, skrbniki ali drugimi avtoritetami\, s katerimi smo spletli energijske vezi\, ki so nam v zgodnjem otroštvu dajale občutek varnosti\, ali z ljudmi\, ki so imeli močan vpliv na našo psiho. Če te vezi in ti vplivi ostanejo neozaveščeni in se nadaljujejo še v odraslo dobo\, te nerazrešene teme pogosto preigravamo v kasnejših odnosih: s partnerji\, otroki\, šefi ali bližnjimi. \n3. Obred pubertete: Kadar delamo ta obred s starši ali otroki\, ki so že vstopili v puberteto\, se ta obred imenuje Obred pubertete\, saj omogoča da se\, ne glede na starost\, osvobodimo nezdravih navezanosti in svobodneje stopimo na pot\, v skladu s svojim srcem in poslanstvom. \nPrijave in organizacija \nProsila bi vas\, da se prijavite čim prej\, da vam lahko razložim\, kako se ustrezno pripraviti na obred in odgovorim na vaša vprašanja. Če želite\, lahko skupaj pogledamo\, s katero osebo – iz sedanjosti ali preteklosti – je v vašem primeru smiselno opraviti obred.\nDelavnica bo potekala prek Zooma in bo trajala najmanj dve uri. Zaradi osebnih vsebin posnetek ne bo na voljo\, zato si ta večer v celoti namenite sebi. \nPrijave: \n\n info@notranji-izvir.si\nwww.notranji-izvir.si/contact-2\n031 576 699\n\n#odnosi #obredrazpletanjavezi #phylliskrystal #notranjevodstvo #osebnarast \n \nDelavnico bo vodila Maja Papež Iskra\, svetovalka za osebno rast in vodička po notranjih svetovih.\nŽe več kot 20 let spremljam ljudi pri procesih osebne preobrazbe\, učim jih\, kako prepoznati notranje programe\, razrahljati vezi iz preteklosti in živeti v stiku z notranjim vodstvom. \nPodatki za plačilo:\nZnesek: 30 €\nNamen: Delavnica – vaše ime in priimek\nIBAN: SI56 1010 0005 1519 993 (Banka Intesa Sanpaolo)\nSklic: 00 (lahko datum plačila) \nNaslov:\nZavod Notranji izvir\nŠmihel 35a\n8360 Žužemberk \nPlačilo je možno tudi prek povezave SumUp \nhttps://pay.sumup.com/b2c/QWAPVBXR \npovezava ZoomPovezava Zoom:Ob dogovorjenem času kliknite spodnjo povezavo ali zgornji gumb. Dogodek bo potekal prek Zoom videokonference. Če bi imeli težave s povezavo\, mi pošljite svoj e-naslov na info@notranji-izvir.si\, da vam lahko pošljem povabilo. V dogodek se vključite nekaj minut pred začetkom\, saj med vodenjem delavnice ne bom mogla reševati težav. \nhttps://us06web.zoom.us/j/89553863876?pwd=SvN7fvKTHbeDggFVs0xdWGsCYqDSzy.1
URL:https://www.notranji-izvir.si/dogodek/delavnica-razpletanje-vezi-v-odnosih/
LOCATION:Spletna učilnica\, ZOOM
CATEGORIES:delavnice
ATTACH;FMTTYPE=image/jpeg:https://www.notranji-izvir.si/wp-content/uploads/2025/09/Delavnica-z-Majo-web-2.jpg
ORGANIZER;CN="Zavod Notranji izvir":MAILTO:info@notranji-izvir.si
END:VEVENT
END:VCALENDAR